BEGIN:VCALENDAR
VERSION:2.0
PRODID:icalendar-ruby
CALSCALE:GREGORIAN
METHOD:PUBLISH
BEGIN:VEVENT
DTSTAMP:20260423T112900Z
UID:122-142566@woodruffcog.org
DTSTART:20260502T110000Z
DTEND:20260502T160000Z
CLASS:PUBLIC
CREATED:20260422T171219
DESCRIPTION:Cleaning out your closet? Need a place to sale your items? Ther
 e will be a community yard sale here on May 2nd. Rent a table for your thi
 ngs for $10! Call or sign up today! For more information or to sign up\, c
 ontact Sergio Burgos @ 864-905-4321
LAST-MODIFIED:20260422T171219
LOCATION:6385 SC-101 Woodruff\, SC 29388
SUMMARY:Community Yard Sale
URL;VALUE=URI:https://www.woodruffcog.org/events/community-yard-sale--122/2
 026-05-02
ATTACH;FILENAME=64.png;FMTTYPE=image/png:https://dq5pwpg1q8ru0.cloudfront.n
 et/2026/04/22/21/12/19/043b29a6-d488-4146-ad95-131f18f1555d/64.png
END:VEVENT
END:VCALENDAR
