BEGIN:VCALENDAR
VERSION:2.0
PRODID:icalendar-ruby
CALSCALE:GREGORIAN
METHOD:PUBLISH
BEGIN:VEVENT
DTSTAMP:20260423T132430Z
UID:121-142565@woodruffcog.org
DTSTART:20260530T150000Z
DTEND:20260530T210000Z
CLASS:PUBLIC
CREATED:20260422T162253
DESCRIPTION:Calling all men 12 and up... You are invited to this event! Thi
 s will be a great time of food and fellowship\, can’t wait to see everyo
 ne there! Make plans now to join us that day and bring any friends or fami
 ly with you.
LAST-MODIFIED:20260422T162253
LOCATION:6385 SC-101Woodruff\, SC 29388
SUMMARY:Pursuit Men's Lunch
URL;VALUE=URI:https://www.woodruffcog.org/events/pursuit-mens-lunch/2026-05
 -30
ATTACH;FILENAME=Copy-of-Pursuit-Breakfast-11124-1500-x-784-px.png;FMTTYPE=i
 mage/png:https://dq5pwpg1q8ru0.cloudfront.net/2026/04/22/20/22/53/7c1f9d9e
 -a6be-4456-8f87-952befd26a72/Copy-of-Pursuit-Breakfast-11124-1500-x-784-px
 .png
END:VEVENT
END:VCALENDAR
